BEGIN:VCALENDAR
VERSION:2.0
PRODID:-//Antje Bergau - ECPv6.15.20//NONSGML v1.0//EN
CALSCALE:GREGORIAN
METHOD:PUBLISH
X-ORIGINAL-URL:https://antjebergau.de
X-WR-CALDESC:Veranstaltungen für Antje Bergau
REFRESH-INTERVAL;VALUE=DURATION:PT1H
X-Robots-Tag:noindex
X-PUBLISHED-TTL:PT1H
BEGIN:VTIMEZONE
TZID:Europe/Berlin
BEGIN:DAYLIGHT
TZOFFSETFROM:+0100
TZOFFSETTO:+0200
TZNAME:CEST
DTSTART:20250330T010000
END:DAYLIGHT
BEGIN:STANDARD
TZOFFSETFROM:+0200
TZOFFSETTO:+0100
TZNAME:CET
DTSTART:20251026T010000
END:STANDARD
BEGIN:DAYLIGHT
TZOFFSETFROM:+0100
TZOFFSETTO:+0200
TZNAME:CEST
DTSTART:20260329T010000
END:DAYLIGHT
BEGIN:STANDARD
TZOFFSETFROM:+0200
TZOFFSETTO:+0100
TZNAME:CET
DTSTART:20261025T010000
END:STANDARD
BEGIN:DAYLIGHT
TZOFFSETFROM:+0100
TZOFFSETTO:+0200
TZNAME:CEST
DTSTART:20270328T010000
END:DAYLIGHT
BEGIN:STANDARD
TZOFFSETFROM:+0200
TZOFFSETTO:+0100
TZNAME:CET
DTSTART:20271031T010000
END:STANDARD
END:VTIMEZONE
BEGIN:VEVENT
DTSTART;TZID=Europe/Berlin:20260527T173000
DTEND;TZID=Europe/Berlin:20260527T183000
DTSTAMP:20260423T102613
CREATED:20260313T133543Z
LAST-MODIFIED:20260330T150618Z
UID:8741-1779903000-1779906600@antjebergau.de
SUMMARY:Lymphatic Flow Yoga
DESCRIPTION:Diese sanfte\, fließende Yoga-Praxis unterstützt den natürlichen Lymphfluss im Körper\, wirkt ausgleichend und wohlig. Ruhige Bewegungen\, bewusste Atmung und entspannende Haltungen aktivieren das Lymphsystem aktiviert und unterstützen so den Körper in seiner Entgiftung\, Regeneration und Durchblutung. Lympatic Flow Yoga ist ein Geschenk an dich\, an deinen Körper\, an deinen Geist. Eine Stunde die durch bestimmte Bewegungen wieder Raum gibt für Wohlbefinden\, innere Balance und Leichtigkeit. \nDie Stunde ist für alle Level geeignet. \nEuro 95\,00 (für 5 Einheiten)\nDrop In: Euro 20\,00 (Einzelstunde)\nTermine: 29.04.2026\, 06.05.2026\, 13.05.2026\, 20.05.2026\, 27.05.2026\nAnmeldung: mail@antjebergau.de \nIch freue mich sehr auf dich. \nDeine Antje \nJa\, ich möchte gern dabei sein – Lymphatic Flow Yoga
URL:https://antjebergau.de/event/lymphatic-flow-yoga-5/
CATEGORIES:Kurse
ATTACH;FMTTYPE=image/jpeg:https://antjebergau.de/wp-content/uploads/2024/12/Yoga-sanft-AdobeStock_273725384.jpg
END:VEVENT
END:VCALENDAR